BEGIN:VCALENDAR
VERSION:2.0
PRODID:-//City of Racine - ECPv6.15.18//NONSGML v1.0//EN
CALSCALE:GREGORIAN
METHOD:PUBLISH
X-ORIGINAL-URL:https://cor-dev.cityofracinewi.gov
X-WR-CALDESC:Events for City of Racine
REFRESH-INTERVAL;VALUE=DURATION:PT1H
X-Robots-Tag:noindex
X-PUBLISHED-TTL:PT1H
BEGIN:VTIMEZONE
TZID:America/Chicago
BEGIN:DAYLIGHT
TZOFFSETFROM:-0600
TZOFFSETTO:-0500
TZNAME:CDT
DTSTART:20250309T080000
END:DAYLIGHT
BEGIN:STANDARD
TZOFFSETFROM:-0500
TZOFFSETTO:-0600
TZNAME:CST
DTSTART:20251102T070000
END:STANDARD
BEGIN:DAYLIGHT
TZOFFSETFROM:-0600
TZOFFSETTO:-0500
TZNAME:CDT
DTSTART:20260308T080000
END:DAYLIGHT
BEGIN:STANDARD
TZOFFSETFROM:-0500
TZOFFSETTO:-0600
TZNAME:CST
DTSTART:20261101T070000
END:STANDARD
BEGIN:DAYLIGHT
TZOFFSETFROM:-0600
TZOFFSETTO:-0500
TZNAME:CDT
DTSTART:20270314T080000
END:DAYLIGHT
BEGIN:STANDARD
TZOFFSETFROM:-0500
TZOFFSETTO:-0600
TZNAME:CST
DTSTART:20271107T070000
END:STANDARD
END:VTIMEZONE
BEGIN:VEVENT
DTSTART;VALUE=DATE:20260101
DTEND;VALUE=DATE:20260102
DTSTAMP:20260422T170500
CREATED:20251118T055858Z
LAST-MODIFIED:20251118T055858Z
UID:10005867-1767225600-1767311999@cor-dev.cityofracinewi.gov
SUMMARY:City Buildings Closed
DESCRIPTION:City Offices and Library closed for the New Year’s holiday on Wednesday\, December 31\, and Thursday\, January 1\, 2026. \nIf your trash pickup day falls on one of these days\, there will be no solid waste or recycling pickup on that day. See Collection Schedule – City of Racine for your new collection date.
URL:https://cor-dev.cityofracinewi.gov/event/city-buildings-closed-4/
LOCATION:City Building
END:VEVENT
BEGIN:VEVENT
DTSTART;TZID=America/Chicago:20260115T100000
DTEND;TZID=America/Chicago:20260115T120000
DTSTAMP:20260422T170500
CREATED:20260114T191216Z
LAST-MODIFIED:20260114T191216Z
UID:10005870-1768471200-1768478400@cor-dev.cityofracinewi.gov
SUMMARY:Martin Luther King\, Jr. Day Program
DESCRIPTION:EVENT SCHEDULE & LOCATIONS \nLaying of the Wreath Ceremony \nTime: 10:00 a.m. \nLocation: \nDr. Martin Luther King Jr. Monument\n909 Dr. Martin Luther King Drive\, Racine \nProgram highlights include: \n\nOpening remarks by Racine Heritage Committee member Al Johnson\nColor Guard and Pledge of Allegiance\nRemarks from Mayor Cory Mason\nRemarks from Racine County Executive Ralph Malicki\n\nMartin Luther King Jr. Day Program \nTime: Approximately 10:45 a.m. \nLocation: \nMartin Luther King Community Center\n1134 Dr. Martin Luther King Drive\, Racine \nProgram highlights include: \n\nOpening remarks by Al Johnson\nRemarks and introductions from community leaders\nStudent performances and readings by:\n\nGifford School of the Arts Choir\nMitchell School students\nJerstad-Agerholm School students\n\n\nCommunity awards and remarks presented by Tray Allen\, Martin Luther King Community Center\nBenediction by Dr. Latoya Thurmond
URL:https://cor-dev.cityofracinewi.gov/event/martin-luther-king-jr-day-program/
LOCATION:1134 Dr Martin Luther King Dr\, Racine\, WI 53404.\, 1134 Dr Martin Luther King Dr\, Racine\, WI\, 53404\, United States
ATTACH;FMTTYPE=image/png:https://media-cityofracine.s3.amazonaws.com/media/wp-content/uploads/2026/01/13155209/MLK-Wreath-Laying-2026.png
END:VEVENT
BEGIN:VEVENT
DTSTART;TZID=America/Chicago:20260127T163000
DTEND;TZID=America/Chicago:20260127T183000
DTSTAMP:20260422T170500
CREATED:20260120T192608Z
LAST-MODIFIED:20260120T192608Z
UID:10005871-1769531400-1769538600@cor-dev.cityofracinewi.gov
SUMMARY:Zoning Code Update Open House
DESCRIPTION:The City of Racine is rewriting its Zoning Code to balance the City’s needs\, long-term goals\, and alignment with the City’s 2050 Comprehensive Plan. \nCommunity feedback is essential to this process\, and we need your help to ensure the new Zoning Code reflects the community’s needs. Residents and stakeholders are invited to attend an Open House on the proposed draft Zoning Code and Zoning Map on January 27\, 2026\, from 4:30 to 6:30 p.m. at Gateway Technical College (1001 Main Street\, Racine Building\, Quad Rooms). \nYour input will help shape the final version of the City’s Zoning Code. \nHighlights include:\n• Presentation and interactive activities\n• Draft Zoning Code\n• Zoning Map\n• Light refreshments\n• Family-Friendly Event \nWe hope you’ll attend!
URL:https://cor-dev.cityofracinewi.gov/event/zoning-code-update-open-house/
LOCATION:Gateway Technical College\, 1001 Main Street\, Racine\, WI\, 53403\, United States
ATTACH;FMTTYPE=image/jpeg:https://media-cityofracine.s3.amazonaws.com/media/wp-content/uploads/2026/01/20132254/Zoning-Code-Open-House_Website-Event.jpg
ORGANIZER;CN="City Development":MAILTO:cdvplanning@cityofracine.org
END:VEVENT
END:VCALENDAR